BEGIN:VCALENDAR
VERSION:2.0
PRODID:-//Sabre//Sabre VObject 3.5.3//EN
CALSCALE:GREGORIAN
BEGIN:VTIMEZONE
TZID:Europe/London
BEGIN:STANDARD
TZNAME:GMT
DTSTART:19701025T020000
RRULE:FREQ=YEARLY;BYMONTH=10;BYDAY=-1SU
TZOFFSETFROM:+0100
TZOFFSETTO:+0000
END:STANDARD
BEGIN:DAYLIGHT
TZNAME:BST
DTSTART:19700329T010000
RRULE:FREQ=YEARLY;BYMONTH=3;BYDAY=-1SU
TZOFFSETFROM:+0000
TZOFFSETTO:+0100
END:DAYLIGHT
END:VTIMEZONE
BEGIN:VEVENT
UID:event_158658@rhapsodychorus.org.uk
DTSTART;TZID=Europe/London:20221213T200000
DTEND;TZID=Europe/London:20221213T211500
SUMMARY:Christmas Event for Friends and Family
DESCRIPTION:This Christmas event for friends and family has become an annua
 l occasion since the Dogsthorpe Methodist Church became our permanent rehe
 arsal venue.\n\nThe evening begins at 8.00pm with a selection of repertoir
 e songs directed by our Co-director Anna\, followed by a selection of Chri
 stmas favourites.\n\nRefreshments will then be served by the church.\n\nAf
 ter the break\, there will be some congragational carols for the audience 
 to join in\, to give everyone some Christmas cheer.\n\nFinally\, the&nbsp\
 ; participants of our recent &#39\;Love to Sing&#39\; course will&nbsp\; j
 oin the chorus on the risers to sing &#39\;Oh Holy Night&#39\; directed by
  Helen Glavina (our course Musical Director). This will be the culmination
  of a 5-week singing course.\n\nIt promises to be an entertaining evening.
 &nbsp\; Everyone is welcome to come alongl\n\nFor full event details\, vis
 it: https://www.rhapsodychorus.org.uk/dbpage.php?pg=view&dbase=events&id=1
 58658
LOCATION:Birchtree Avenue\, \, Dogsthorpe\, Peterborough\, PE1 4HP
URL:https://www.rhapsodychorus.org.uk/dbpage.php?pg=view&dbase=events&id=15
 8658
END:VEVENT
END:VCALENDAR
