BEGIN:VCALENDAR
VERSION:2.0
PRODID:-//Sabre//Sabre VObject 3.5.3//EN
CALSCALE:GREGORIAN
BEGIN:VTIMEZONE
TZID:Europe/London
BEGIN:STANDARD
TZNAME:GMT
DTSTART:19701025T020000
RRULE:FREQ=YEARLY;BYMONTH=10;BYDAY=-1SU
TZOFFSETFROM:+0100
TZOFFSETTO:+0000
END:STANDARD
BEGIN:DAYLIGHT
TZNAME:BST
DTSTART:19700329T010000
RRULE:FREQ=YEARLY;BYMONTH=3;BYDAY=-1SU
TZOFFSETFROM:+0000
TZOFFSETTO:+0100
END:DAYLIGHT
END:VTIMEZONE
BEGIN:VEVENT
UID:event_187008@rhapsodychorus.org.uk
DTSTART;TZID=Europe/London:20241112T191500
DTEND;TZID=Europe/London:20241112T211500
SUMMARY:TRY OUT TUESDAY - OPEN REHEARSAL
DESCRIPTION:PLEASE COME ALONG TO OUR &#39\;TRY OUT TUESDAY&#39\;\n\nWe are 
 opening the doors again for an Open Rehearsal\, when we hope to encourage 
 people to come and join us for the evening to find out more about 4 part h
 armony and all that joining a chorus involves.\n\nHope to see you there. J
 ust turn up at 7.15pm\, or email membership@rhapsodychorus.org.uk&nbsp\;fo
 r more details.\n\n\n&nbsp\;\n\nFor full event details\, visit: https://ww
 w.rhapsodychorus.org.uk/dbpage.php?pg=view&dbase=events&id=187008
LOCATION:Birchtree Avenue\, \, Dogsthorpe\, Peterborough\, PE1 4HP
URL:https://www.rhapsodychorus.org.uk/dbpage.php?pg=view&dbase=events&id=18
 7008
END:VEVENT
END:VCALENDAR
