BEGIN:VCALENDAR
VERSION:2.0
PRODID:-//Sabre//Sabre VObject 3.5.3//EN
CALSCALE:GREGORIAN
BEGIN:VTIMEZONE
TZID:Europe/London
BEGIN:STANDARD
TZNAME:GMT
DTSTART:19701025T020000
RRULE:FREQ=YEARLY;BYMONTH=10;BYDAY=-1SU
TZOFFSETFROM:+0100
TZOFFSETTO:+0000
END:STANDARD
BEGIN:DAYLIGHT
TZNAME:BST
DTSTART:19700329T010000
RRULE:FREQ=YEARLY;BYMONTH=3;BYDAY=-1SU
TZOFFSETFROM:+0000
TZOFFSETTO:+0100
END:DAYLIGHT
END:VTIMEZONE
BEGIN:VEVENT
UID:event_198409@rhapsodychorus.org.uk
DTSTART;TZID=Europe/London:20251118T191500
DTEND;TZID=Europe/London:20251118T211500
SUMMARY:LOVE TO SING WEEK 1
DESCRIPTION:Love to sing is back!!!\n\nIf you have ever fancied singing in 
 a choir or chorus\, here is your chance to experience this rewarding hobby
 .\n\nRhapsody is holding another &#39\;Love to Sing&#39\; course beginning
  on 18th November for 5 consecutive weeks at Dogsthorpe Methodist Church\,
  Birchtree Avenue\, Dogsthorpe\, Peterborough PE1 4HP from 7.15pm to 9.00p
 m.&nbsp\; You will be learning a Christmas song in 4-part harmony which yo
 u can perform alongside the chorus to family and friends at the annual Chr
 istmas concert on 16th December at the church.\n\nThe total cost for 5 wee
 ks is&nbsp\;&pound\;25.00\, &pound\;10 for students (non refundable).\n\nI
 f you would like to take part please complete the registration form below 
 and email it to&nbsp\;membership@rhapsodychorus.org.uk.\n\nPayment can be 
 made by BACS - details are given on the form.\n&nbsp\;\n\nFor full event d
 etails\, visit: https://www.rhapsodychorus.org.uk/dbpage.php?pg=view&dbase
 =events&id=198409
LOCATION:Birchtree Avenue\, \, Dogsthorpe\, Peterborough\, PE1 4HP
URL:https://www.rhapsodychorus.org.uk/dbpage.php?pg=view&dbase=events&id=19
 8409
END:VEVENT
END:VCALENDAR
