BEGIN:VCALENDAR
VERSION:2.0
PRODID:-//Sabre//Sabre VObject 3.5.3//EN
CALSCALE:GREGORIAN
BEGIN:VTIMEZONE
TZID:Europe/London
BEGIN:STANDARD
TZNAME:GMT
DTSTART:19701025T020000
RRULE:FREQ=YEARLY;BYMONTH=10;BYDAY=-1SU
TZOFFSETFROM:+0100
TZOFFSETTO:+0000
END:STANDARD
BEGIN:DAYLIGHT
TZNAME:BST
DTSTART:19700329T010000
RRULE:FREQ=YEARLY;BYMONTH=3;BYDAY=-1SU
TZOFFSETFROM:+0000
TZOFFSETTO:+0100
END:DAYLIGHT
END:VTIMEZONE
BEGIN:VEVENT
UID:event_198413@rhapsodychorus.org.uk
DTSTART;TZID=Europe/London:20251216T193000
DTEND;TZID=Europe/London:20251216T213000
SUMMARY:Friends and family Christmas concert
DESCRIPTION:CHRISTMAS CONCERT IN THE CHURCH\n\nThe Rhapsody Christmas conce
 rt has been a highlight every year since the church became our rehearsal v
 enue in August 2021.\n\nRefreshments will be served during the interval an
 d all the proceeds will be donated to the Peterborough Food Bank. Please b
 ring some cash or non-perishable food to donate.\n\nIt promises to be a ve
 ry entertaining evening.&nbsp\; We&#39\;ll be singing repertoire songs as 
 well as Christmas favourites. Our current &#39\;Love to Sing&#39\; partici
 pants will join the chorus on the risers to perform the song they have per
 fected during the course - &#39\;Oh I wish it could be Christmas everyday&
 #39\;. And we hope there will be some audience participation in a couple o
 f classic carols.\n\nWe hope to see you there.&nbsp\;\n\nStart time: 7.30p
 m.\n\nDogsthorpe Methodist Church\, Birchtree Avenue\, Peterborough PE1 4H
 P.\n\n&nbsp\;\n\nFor full event details\, visit: https://www.rhapsodychoru
 s.org.uk/dbpage.php?pg=view&dbase=events&id=198413
LOCATION:Birchtree Avenue\, \, Dogsthorpe\, Peterborough\, PE1 4HP
URL:https://www.rhapsodychorus.org.uk/dbpage.php?pg=view&dbase=events&id=19
 8413
END:VEVENT
END:VCALENDAR
